BEGIN:VCALENDAR
VERSION:2.0
PRODID:Events Booking
BEGIN:VEVENT
UID:69ea419965f23
SUMMARY:The Redwood Coast Roundup
DESCRIPTION:This is a chance to connect with others\, share stories\, and c
 reate memories in the heart of California's Redwood country.
LOCATION:1800 Riverwalk Dr\, Fortuna\, CA 95540\, USA
DTSTART:20240802T070000Z
DTEND:20240804T070000Z
DTSTAMP:20240621T002242Z
ORGANIZER;CN=Sober Cast:MAILTO:sobercast@gmail.com
GEO:40.576862;-124.153985
X-APPLE-STRUCTURED-LOCATION;VALUE=URI;X-ADDRESS=1800 Riverwalk Dr\, Fortuna
 \, CA 95540\, USA;X-APPLE-RADIUS=72;X-TITLE=River Lodge Conference Center 
 - Fortuna California:40.576862;-124.153985
END:VEVENT
END:VCALENDAR