BEGIN:VCALENDAR
VERSION:2.0
PRODID:Events Booking
BEGIN:VEVENT
UID:69e90315a878a
SUMMARY:Bournemouth District Intergroup AA Convention
DESCRIPTION:Bournemouth District Intergroup AA Convention
LOCATION:Knyveton Rd\, Bournemouth BH1 3QQ\, UK
DTSTART:20241025T070000Z
DTEND:20241027T070000Z
DTSTAMP:20240720T034707Z
ORGANIZER;CN=Sober Cast:MAILTO:sobercast@gmail.com
GEO:50.724842;-1.852364
X-APPLE-STRUCTURED-LOCATION;VALUE=URI;X-ADDRESS=Knyveton Rd\, Bournemouth B
 H1 3QQ\, UK;X-APPLE-RADIUS=72;X-TITLE=Bournemouth  UK - Carrington House 
 Hotel:50.724842;-1.852364
END:VEVENT
END:VCALENDAR